5.00000000000000
0.00000000000000
0.00000000000000
-5.00000000000000
434977.50000000000000
4345067.50000000000000
