5.00000000000000
0.00000000000000
0.00000000000000
-5.00000000000000
440377.50000000000000
4345042.50000000000000
