5.00000000000000
0.00000000000000
0.00000000000000
-5.00000000000000
435522.50000000000000
4407522.50000000000000
