5.00000000000000
0.00000000000000
0.00000000000000
-5.00000000000000
440872.50000000000000
4407497.50000000000000
