5.00000000000000
0.00000000000000
0.00000000000000
-5.00000000000000
440907.50000000000000
4414432.50000000000000
