5.00000000000000
0.00000000000000
0.00000000000000
-5.00000000000000
434607.50000000000000
4296542.50000000000000
