5.00000000000000
0.00000000000000
0.00000000000000
-5.00000000000000
440037.50000000000000
4296517.50000000000000
