5.00000000000000
0.00000000000000
0.00000000000000
-5.00000000000000
434637.50000000000000
4303477.50000000000000
