5.00000000000000
0.00000000000000
0.00000000000000
-5.00000000000000
440067.50000000000000
4303452.50000000000000
