5.00000000000000
0.00000000000000
0.00000000000000
-5.00000000000000
434297.50000000000000
4261862.50000000000000
