5.00000000000000
0.00000000000000
0.00000000000000
-5.00000000000000
439757.50000000000000
4261837.50000000000000
