5.00000000000000
0.00000000000000
0.00000000000000
-5.00000000000000
445557.50000000000000
4310352.50000000000000
