5.00000000000000
0.00000000000000
0.00000000000000
-5.00000000000000
450982.50000000000000
4310327.50000000000000
