5.00000000000000
0.00000000000000
0.00000000000000
-5.00000000000000
445587.50000000000000
4317287.50000000000000
