5.00000000000000
0.00000000000000
0.00000000000000
-5.00000000000000
451012.50000000000000
4317262.50000000000000
