5.00000000000000
0.00000000000000
0.00000000000000
-5.00000000000000
467132.50000000000000
4282502.50000000000000
