5.00000000000000
0.00000000000000
0.00000000000000
-5.00000000000000
472562.50000000000000
4282477.50000000000000
