5.00000000000000
0.00000000000000
0.00000000000000
-5.00000000000000
467162.50000000000000
4289437.50000000000000
