5.00000000000000
0.00000000000000
0.00000000000000
-5.00000000000000
472592.50000000000000
4289412.50000000000000
