5.00000000000000
0.00000000000000
0.00000000000000
-5.00000000000000
445467.50000000000000
4296472.50000000000000
