5.00000000000000
0.00000000000000
0.00000000000000
-5.00000000000000
450902.50000000000000
4296447.50000000000000
