5.00000000000000
0.00000000000000
0.00000000000000
-5.00000000000000
445497.50000000000000
4303407.50000000000000
