5.00000000000000
0.00000000000000
0.00000000000000
-5.00000000000000
450932.50000000000000
4303382.50000000000000
