5.00000000000000
0.00000000000000
0.00000000000000
-5.00000000000000
456252.50000000000000
4282552.50000000000000
