5.00000000000000
0.00000000000000
0.00000000000000
-5.00000000000000
461692.50000000000000
4282527.50000000000000
