5.00000000000000
0.00000000000000
0.00000000000000
-5.00000000000000
456287.50000000000000
4289487.50000000000000
