5.00000000000000
0.00000000000000
0.00000000000000
-5.00000000000000
461727.50000000000000
4289462.50000000000000
