5.00000000000000
0.00000000000000
0.00000000000000
-5.00000000000000
456477.50000000000000
4324167.50000000000000
