5.00000000000000
0.00000000000000
0.00000000000000
-5.00000000000000
461892.50000000000000
4324142.50000000000000
