5.00000000000000
0.00000000000000
0.00000000000000
-5.00000000000000
456507.50000000000000
4331102.50000000000000
