5.00000000000000
0.00000000000000
0.00000000000000
-5.00000000000000
461922.50000000000000
4331077.50000000000000
