5.00000000000000
0.00000000000000
0.00000000000000
-5.00000000000000
477957.50000000000000
4268592.50000000000000
