5.00000000000000
0.00000000000000
0.00000000000000
-5.00000000000000
477987.50000000000000
4275527.50000000000000
