5.00000000000000
0.00000000000000
0.00000000000000
-5.00000000000000
483427.50000000000000
4275502.50000000000000
