5.00000000000000
0.00000000000000
0.00000000000000
-5.00000000000000
477992.50000000000000
4282462.50000000000000
