5.00000000000000
0.00000000000000
0.00000000000000
-5.00000000000000
483422.50000000000000
4282437.50000000000000
