5.00000000000000
0.00000000000000
0.00000000000000
-5.00000000000000
478022.50000000000000
4289397.50000000000000
