5.00000000000000
0.00000000000000
0.00000000000000
-5.00000000000000
483457.50000000000000
4289372.50000000000000
