5.00000000000000
0.00000000000000
0.00000000000000
-5.00000000000000
456327.50000000000000
4296422.50000000000000
