5.00000000000000
0.00000000000000
0.00000000000000
-5.00000000000000
461762.50000000000000
4296397.50000000000000
