5.00000000000000
0.00000000000000
0.00000000000000
-5.00000000000000
456362.50000000000000
4303357.50000000000000
