5.00000000000000
0.00000000000000
0.00000000000000
-5.00000000000000
461792.50000000000000
4303332.50000000000000
