5.00000000000000
0.00000000000000
0.00000000000000
-5.00000000000000
429912.50000000000000
4379832.50000000000000
