5.00000000000000
0.00000000000000
0.00000000000000
-5.00000000000000
429947.50000000000000
4386767.50000000000000
