5.00000000000000
0.00000000000000
0.00000000000000
-5.00000000000000
445717.50000000000000
4338052.50000000000000
