5.00000000000000
0.00000000000000
0.00000000000000
-5.00000000000000
451122.50000000000000
4338027.50000000000000
