5.00000000000000
0.00000000000000
0.00000000000000
-5.00000000000000
445752.50000000000000
4344987.50000000000000
