5.00000000000000
0.00000000000000
0.00000000000000
-5.00000000000000
451157.50000000000000
4344962.50000000000000
