5.00000000000000
0.00000000000000
0.00000000000000
-5.00000000000000
445217.50000000000000
4261797.50000000000000
