5.00000000000000
0.00000000000000
0.00000000000000
-5.00000000000000
450677.50000000000000
4261772.50000000000000
